BEGIN:VCALENDAR
VERSION:2.0
PRODID:-//Pimpinan Cabang Muhammadiyah Lengkong - ECPv6.15.20//NONSGML v1.0//EN
CALSCALE:GREGORIAN
METHOD:PUBLISH
X-WR-CALNAME:Pimpinan Cabang Muhammadiyah Lengkong
X-ORIGINAL-URL:https://pcmlengkong.or.id
X-WR-CALDESC:Events for Pimpinan Cabang Muhammadiyah Lengkong
REFRESH-INTERVAL;VALUE=DURATION:PT1H
X-Robots-Tag:noindex
X-PUBLISHED-TTL:PT1H
BEGIN:VTIMEZONE
TZID:Asia/Jakarta
BEGIN:STANDARD
TZOFFSETFROM:+0700
TZOFFSETTO:+0700
TZNAME:WIB
DTSTART:20240101T000000
END:STANDARD
END:VTIMEZONE
BEGIN:VEVENT
DTSTART;TZID=Asia/Jakarta:20250826T130000
DTEND;TZID=Asia/Jakarta:20250826T150000
DTSTAMP:20260424T033745
CREATED:20251027T033309Z
LAST-MODIFIED:20251027T033309Z
UID:550-1756213200-1756220400@pcmlengkong.or.id
SUMMARY:Pengajian PCM Lengkong Edisi ke-2
DESCRIPTION:Bulanan:\nPengajian PCM Lengkong ✨ \nAssalamu’alaikum Warahmatullahi Wabarakatuh \nDengan rahmat Allah SWT\, kami mengundang Bapak/Ibu/Saudara/i sekalian untuk menghadiri pengajian rutin bulanan yang diselenggarakan oleh Pimpinan Cabang Muhammadiyah (PCM) Lengkong. Sebuah majelis ilmu yang penuh berkah\, tempat kita bersama menimba hikmah dan mempererat ukhuwah Islamiyah. \nEdisi Ke-2 \n Tema Kajian: “Kemuhammadiyahan: Mengenal Lebih Dekat Ideologi Muhammadiyah Bagian Ke-1” \nNarasumber\n Bersama: Ust. Burhanudin\, S.Pd.I.\, M.Pd.\n(Ketua Majelis Tabligh PCM Lengkong) \nHari\, Tanggal:\n️ Hari/Tanggal: 26 Agustus 2025 \nWaktu:\n⏰ Waktu: Pukul 13.00 WIB – Selesai \nTempat:\n Tempat: Komplek Pendidikan Kancil\, Jl. Kancil No. 1 Kota Bandung \nAcara ini terbuka untuk seluruh kader Muhammadiyah\, anggota Ortom\, AUM\, serta segenap warga Cabang Lengkong yang dirahmati Allah.
URL:https://pcmlengkong.or.id/event/pengajian-pcm-lengkong-edisi-ke-2/
CATEGORIES:Pengajian Umum
ATTACH;FMTTYPE=image/jpeg:https://pcmlengkong.or.id/wp-content/uploads/2025/10/WhatsApp-Image-2025-08-25-at-15.10.14.jpeg
END:VEVENT
END:VCALENDAR