BEGIN:VCALENDAR
VERSION:2.0
PRODID:-//Pimpinan Cabang Muhammadiyah Lengkong - ECPv6.15.20//NONSGML v1.0//EN
CALSCALE:GREGORIAN
METHOD:PUBLISH
X-WR-CALNAME:Pimpinan Cabang Muhammadiyah Lengkong
X-ORIGINAL-URL:https://pcmlengkong.or.id
X-WR-CALDESC:Events for Pimpinan Cabang Muhammadiyah Lengkong
REFRESH-INTERVAL;VALUE=DURATION:PT1H
X-Robots-Tag:noindex
X-PUBLISHED-TTL:PT1H
BEGIN:VTIMEZONE
TZID:Asia/Jakarta
BEGIN:STANDARD
TZOFFSETFROM:+0700
TZOFFSETTO:+0700
TZNAME:WIB
DTSTART:20240101T000000
END:STANDARD
END:VTIMEZONE
BEGIN:VEVENT
DTSTART;TZID=Asia/Jakarta:20251014T200000
DTEND;TZID=Asia/Jakarta:20251014T213000
DTSTAMP:20260424T044327
CREATED:20251014T030554Z
LAST-MODIFIED:20251027T030823Z
UID:515-1760472000-1760477400@pcmlengkong.or.id
SUMMARY:Pengajian Pimpinan Edisi Ke-4
DESCRIPTION:Pengajian Pimpinan\, Pimpinan Cabang Muhammadiyah Lengkong Kota Bandung \nEdisi Ke-4 \nTopik :\nNgaderes Himpunan Putusan Tarjih (HPT) Muhammadiyah\n“Harmoni Akal dan Wahyu : Pendekatan Tarjih Muhammadiyah dalam Memahami Aqidah” (Lanjutan)” \nNarasumber :\nCecep Taufiqurrahman\, M.A.\, Ph.D (Wakil Dekan FAI UMBandung) \nPengantar :\nAhmad Yani\, S.Ag (Ketua PCM Lengkong) \nModerator :\nHj. Siti Rohmah\, S.Ag.\, M.Pd. (Kepala SMP Muhammadiyah 1 Bandung) \nQori’ah :\nAi Soleha\, S.Pd. (Wakil Kepala SMK Muhammadiyah 1 Bandung\, Bidang Kurikulum) \nTopik: Zoom Meeting Entoh Wahyu Mujaddid Rais’s\nWaktu: 14 Okt 2025 08:00 PM Jakarta\nBergabung ke Rapat Zoom\nhttps://us06web.zoom.us/j/7491631394?pwd=ggyNiUvwaTFHnpRbV8dnj9vwU62E1J.1&omn=87987438157 \nID Rapat: 749 163 1394\nKode Sandi: pdmbdg
URL:https://pcmlengkong.or.id/event/pengajian-pimpinan-edisi-ke-4/
CATEGORIES:Pengajian Pimpinan
ATTACH;FMTTYPE=image/jpeg:https://pcmlengkong.or.id/wp-content/uploads/2025/10/WhatsApp-Image-2025-10-14-at-06.05.11.jpeg
END:VEVENT
END:VCALENDAR