BEGIN:VCALENDAR
VERSION:2.0
PRODID:-//Pimpinan Cabang Muhammadiyah Lengkong - ECPv6.15.20//NONSGML v1.0//EN
CALSCALE:GREGORIAN
METHOD:PUBLISH
X-ORIGINAL-URL:https://pcmlengkong.or.id
X-WR-CALDESC:Events for Pimpinan Cabang Muhammadiyah Lengkong
REFRESH-INTERVAL;VALUE=DURATION:PT1H
X-Robots-Tag:noindex
X-PUBLISHED-TTL:PT1H
BEGIN:VTIMEZONE
TZID:Asia/Jakarta
BEGIN:STANDARD
TZOFFSETFROM:+0700
TZOFFSETTO:+0700
TZNAME:WIB
DTSTART:20240101T000000
END:STANDARD
END:VTIMEZONE
BEGIN:VEVENT
DTSTART;TZID=Asia/Jakarta:20260113T200000
DTEND;TZID=Asia/Jakarta:20260113T203000
DTSTAMP:20260423T181027
CREATED:20260113T020116Z
LAST-MODIFIED:20260114T020556Z
UID:970-1768334400-1768336200@pcmlengkong.or.id
SUMMARY:Pengajian Pimpinan PCM Lengkong Edisi Ke-6
DESCRIPTION:Pengajian Pimpinan PCM Lengkong Edisi Ke-6 \nDalam rangka memperdalam pemahaman ajaran Islam sesuai prinsip Muhammadiyah\, kami mengundang Bapak/Ibu Saudara untuk menghadiri kajian dengan tema : Ngaderes Himpunan Putusan Tarjih (HPT) Muhammadiyah: Harmoni Akal dan Wahyu – Pendekatan Tarjih Muhammadiyah dalam Memahami Aqidah” (Lanjutan)\nNarasumber: Cecep Taufiqurrahman\, M.A.\, Ph.D. (Wakil Dekan FAI_UM Bandung) \nSambutan Pengantar:\nAhmad Yani\, S.Ag (Ketua PCM Lengkong)\nModerator:\nAan Sunandar\, SIP.\, M.Pd. (Sekretaris Majelis Tabligh PCM Lengkong) \nQori :\nBagas Fathin Nugraha (Ketua Bidang Organisasi PC-IPM Lengkong) \nDETAIL ACARA\nTanggal:\nSelasa\, 13 Januari 2026 \nWaktu:\n20.00 – 21.30 WIB \nAkses:\nVia Google Meet \nPeserta: Pimpinan persyarikatan\, Majelis\, Lembaga\, PRM\, serta Kepala dan Wakil Kepala AUM Se-Cabang Lengkong\, Guru Ismuba \nGoogle Meet joining info\nVideo call link: https://meet.google.com/uwq-tbdt-dzu\nOr dial: ‪(US) +1 619-832-1599‬ PIN: ‪213 530 143‬#
URL:https://pcmlengkong.or.id/event/pengajian-pimpinan-pcm-lengkong-edisi-ke-6/
LOCATION:Google Meet
CATEGORIES:Pengajian Pimpinan
ATTACH;FMTTYPE=image/jpeg:https://pcmlengkong.or.id/wp-content/uploads/2026/01/ca497b84-ae0e-46bd-9dd1-5af6a46ef885.jpeg
END:VEVENT
BEGIN:VEVENT
DTSTART;TZID=Asia/Jakarta:20251209T200000
DTEND;TZID=Asia/Jakarta:20251209T213000
DTSTAMP:20260423T181027
CREATED:20251208T070920Z
LAST-MODIFIED:20251208T070920Z
UID:881-1765310400-1765315800@pcmlengkong.or.id
SUMMARY:Pengajian Pimpinan PCM Lengkong
DESCRIPTION:Assalamualaikum Warahmatullahi Wabarakatuh\, \nDengan mengharap ridho Allah SWT\, kami mengundang Bapak/Ibu/Saudara/i sekalian untuk menghadiri acara Pengajian Pimpinan PCM Lengkong Edisi Ke-5 (Edisi Akhir Tahun 2025). \nTema :\nNgaderes Himpunan Putusan Tarjih (HPT) Muhammadiyah : Harmoni Akal dan Wahyu; Pendekatan Tarjih Muhammadiyah dalam Memahami Aqidah (Lanjutan).” \nInsya Allah\, pengajian ini akan memberikan pemahaman yang mendalam mengenai pentingnya harmoni antara akal dan wahyu dalam memahami ajaran Islam\, khususnya melalui pendekatan Tarjih Muhammadiyah. \nAcara ini akan diisi oleh narasumber yang ahli di bidangnya\, yaitu: \nCecep Taufiqurrahman\, M.A. Ph.D\n(Wakil Dekan FAI UMBandung) \nProlog :\nAkhmad Yani\, S.Ag (Ketua PCM Lengkong) \nModerator :\nBurhanudin\, S.Pd.I.\, M.Pd\n(Ketua Majelis Tabligh PCM Lengkong) \nQori’ah :\nDra. Nia Suminar (Kepala Sekolah SMA Muhammadiyah 1)
URL:https://pcmlengkong.or.id/event/pengajian-pimpinan-pcm-lengkong/
LOCATION:Google Meet
CATEGORIES:Pengajian Pimpinan
ATTACH;FMTTYPE=image/jpeg:https://pcmlengkong.or.id/wp-content/uploads/2025/12/WhatsApp-Image-2025-12-08-at-13.23.47.jpeg
END:VEVENT
BEGIN:VEVENT
DTSTART;TZID=Asia/Jakarta:20251111T200000
DTEND;TZID=Asia/Jakarta:20251111T213000
DTSTAMP:20260423T181028
CREATED:20251111T034828Z
LAST-MODIFIED:20251111T035041Z
UID:649-1762891200-1762896600@pcmlengkong.or.id
SUMMARY:Pengajian Pimpinan PCM Lengkong Edisi Ke-5
DESCRIPTION:Bismillah…\nSalam… \nMari bersama merenungi hikmah dalam Pengajian Pimpinan PCM Lengkong\, \nEdisi Ke-5 \nDengan Topik : “Harmoni Akal dan Wahyu: Pendekatan Tarjih Muhammadiyah dalam Memahami Aqidah.” \nBersama narasumber kompeten\, kita akan menggali lebih dalam makna ayat-ayat Al-Qur’an dan menyeimbangkan akal serta wahyu dalam kehidupan sehari-hari. \n: Selasa\, 11 November 2025 \n⏰: 20.00-21.30 WIB \nTempat :\n: Via Google Meet \nYuk\, isi malam dengan ilmu! Semoga Allah SWT memudahkan langkah kita. Jangan lewatkan! \nPENGAJIAN PIMPINAN PCM LENGKONG\nTuesday\, November 11 · 8:00 – 9:30pm\nTime zone: Asia/Jakarta\nGoogle Meet joining info\nVideo call link: https://meet.google.com/yoi-jhib-igo\nOr dial: ‪(US) ‪+1 414-882-6813‬‬ PIN: ‪966 022 680‬#
URL:https://pcmlengkong.or.id/event/pengajian-pimpinan-pcm-lengkong-edisi-ke-5/
LOCATION:Google Meet
CATEGORIES:Pengajian Pimpinan
ATTACH;FMTTYPE=image/jpeg:https://pcmlengkong.or.id/wp-content/uploads/2025/11/WhatsApp-Image-2025-11-11-at-09.51.39_51cef170.jpg
END:VEVENT
BEGIN:VEVENT
DTSTART;TZID=Asia/Jakarta:20251014T200000
DTEND;TZID=Asia/Jakarta:20251014T213000
DTSTAMP:20260423T181028
CREATED:20251014T030554Z
LAST-MODIFIED:20251027T030823Z
UID:515-1760472000-1760477400@pcmlengkong.or.id
SUMMARY:Pengajian Pimpinan Edisi Ke-4
DESCRIPTION:Pengajian Pimpinan\, Pimpinan Cabang Muhammadiyah Lengkong Kota Bandung \nEdisi Ke-4 \nTopik :\nNgaderes Himpunan Putusan Tarjih (HPT) Muhammadiyah\n“Harmoni Akal dan Wahyu : Pendekatan Tarjih Muhammadiyah dalam Memahami Aqidah” (Lanjutan)” \nNarasumber :\nCecep Taufiqurrahman\, M.A.\, Ph.D (Wakil Dekan FAI UMBandung) \nPengantar :\nAhmad Yani\, S.Ag (Ketua PCM Lengkong) \nModerator :\nHj. Siti Rohmah\, S.Ag.\, M.Pd. (Kepala SMP Muhammadiyah 1 Bandung) \nQori’ah :\nAi Soleha\, S.Pd. (Wakil Kepala SMK Muhammadiyah 1 Bandung\, Bidang Kurikulum) \nTopik: Zoom Meeting Entoh Wahyu Mujaddid Rais’s\nWaktu: 14 Okt 2025 08:00 PM Jakarta\nBergabung ke Rapat Zoom\nhttps://us06web.zoom.us/j/7491631394?pwd=ggyNiUvwaTFHnpRbV8dnj9vwU62E1J.1&omn=87987438157 \nID Rapat: 749 163 1394\nKode Sandi: pdmbdg
URL:https://pcmlengkong.or.id/event/pengajian-pimpinan-edisi-ke-4/
CATEGORIES:Pengajian Pimpinan
ATTACH;FMTTYPE=image/jpeg:https://pcmlengkong.or.id/wp-content/uploads/2025/10/WhatsApp-Image-2025-10-14-at-06.05.11.jpeg
END:VEVENT
BEGIN:VEVENT
DTSTART;TZID=Asia/Jakarta:20250909T080000
DTEND;TZID=Asia/Jakarta:20250909T213000
DTSTAMP:20260423T181028
CREATED:20250909T032416Z
LAST-MODIFIED:20251027T032637Z
UID:540-1757404800-1757453400@pcmlengkong.or.id
SUMMARY:Pengajian Pimpinan PCM Lengkong Edisi ke-3
DESCRIPTION:Pengajian Pimpinan PCM Lengkong SAHABAT ILMU (Sarana Halaqah Tarjih & Ilmu)\nTuesday\, September 9 · 8:00 – 9:30pm\nTime zone: Asia/Jakarta\nGoogle Meet joining info\nVideo call link: https://meet.google.com/vya-vnrs-icm\nOr dial: (US) +1 401-542-2412 PIN: 140 779 606#
URL:https://pcmlengkong.or.id/event/pengajian-pimpinan-pcm-lengkong-edisi-ke-3/
CATEGORIES:Pengajian Pimpinan
ATTACH;FMTTYPE=image/jpeg:https://pcmlengkong.or.id/wp-content/uploads/2025/10/WhatsApp-Image-2025-10-27-at-10.23.08.jpeg
END:VEVENT
END:VCALENDAR