BEGIN:VCALENDAR
VERSION:2.0
PRODID:-//Pimpinan Cabang Muhammadiyah Lengkong - ECPv6.15.20//NONSGML v1.0//EN
CALSCALE:GREGORIAN
METHOD:PUBLISH
X-ORIGINAL-URL:https://pcmlengkong.or.id
X-WR-CALDESC:Events for Pimpinan Cabang Muhammadiyah Lengkong
REFRESH-INTERVAL;VALUE=DURATION:PT1H
X-Robots-Tag:noindex
X-PUBLISHED-TTL:PT1H
BEGIN:VTIMEZONE
TZID:Asia/Jakarta
BEGIN:STANDARD
TZOFFSETFROM:+0700
TZOFFSETTO:+0700
TZNAME:WIB
DTSTART:20240101T000000
END:STANDARD
END:VTIMEZONE
BEGIN:VEVENT
DTSTART;TZID=Asia/Jakarta:20260124T191500
DTEND;TZID=Asia/Jakarta:20260124T203000
DTSTAMP:20260425T174345
CREATED:20260124T031351Z
LAST-MODIFIED:20260130T031601Z
UID:1076-1769282100-1769286600@pcmlengkong.or.id
SUMMARY:PENGAJIAN PEMBINAAN PRM GUMURUH EDISI KE-6
DESCRIPTION:Bismillahirrahmanirrahim \nDengan penuh syukur kepada Allah SWT\, Pimpinan Ranting Muhammadiyah Gumuruh Lengkong Kota Bandung mengundang seluruh masyarakat untuk menghadiri Pengajian Pembinaan PRM Gumuruh Edisi Ke-6\, dengan tema: \n“Mendalami Makna Rezeki yang Sesungguhnya” \nSebuah kesempatan untuk memahami hakikat rezeki sebagai nikmat Ilahi\, sesuai ajaran Islam yang mulia. \nNarasumber:\nUstadz Ilham Maulana\, S.Sos\n(Mubaligh Muda Muhammadiyah Lengkong) \n– Pengantar: Bapak Dadang Saepuloh\, BA. (Penasehat PRM Gumuruh) \n– Sambutan: Bapak Agung Tirta Wibawa\, M.Ag. (Ketua PRM Gumuruh) \n📅 Sabtu\, 24 Januari 2026\n⏰ 19.15 – 20.30 WIB\n📍 Masjid Al-Ikhlas PRM Gumuruh \nMari kita bersama-sama meraih keberkahan dan hikmah. Mohon kehadiran Anda yang terhormat. \nWassalamualaikum warahmatullahi wabarakatuh
URL:https://pcmlengkong.or.id/event/pengajian-pembinaan-prm-gumuruh-edisi-ke-6/
LOCATION:Masjid Al-Ikhlas Gumuruh
CATEGORIES:Pengajian Ranting
ATTACH;FMTTYPE=image/jpeg:https://pcmlengkong.or.id/wp-content/uploads/2026/01/WhatsApp-Image-2026-01-24-at-17.10.56.jpeg
END:VEVENT
BEGIN:VEVENT
DTSTART;TZID=Asia/Jakarta:20260124T183000
DTEND;TZID=Asia/Jakarta:20260124T193000
DTSTAMP:20260425T174345
CREATED:20260124T101014Z
LAST-MODIFIED:20260127T094335Z
UID:1060-1769279400-1769283000@pcmlengkong.or.id
SUMMARY:UNDANGAN KAJIAN RUTIN BULANAN EDISI KE - 11
DESCRIPTION:UNDANGAN KAJIAN RUTIN BULANAN \nEDISI KE – 11 \nAssalamu’alaikum Wr. Wb \nMengundang Bapak/Ibu/Saudara/i untuk menghadiri Kajian Rutin Bulanan yang insyaAllah akan dilaksanakan pada : \n📅 Sabtu\, 24 Januari 2026 \n⏰ 18.30 WIB (Ba’da Maghrib) – Selesai (Qobla Isya) \n📍 Masjid Rum Al Jihad \n🎙 Narasumber : Ustadz Momon Abdurahman\n(Pengasuh Asrama Putra PATHM Cabang Lengkong) \n📖 Thema : “Meningkatkan Taqwa\, Menguatkan Ukhuwah” \nMari luangkan waktu untuk menambah ilmu dan memperkuat iman bersama. \nAtas perhatian dan kehadirannya\, kami ucapkan terima kasih. \nWassalamu’alaikum Wr Wb
URL:https://pcmlengkong.or.id/event/undangan-kajian-rutin-bulanan-edisi-ke-11/
LOCATION:Masjid Rum Al Jihad\, Jl. Banteng kecil no 22\, Bandung\, Jawa Barat\, Indonesia
CATEGORIES:Pengajian Ranting
ATTACH;FMTTYPE=image/jpeg:https://pcmlengkong.or.id/wp-content/uploads/2026/01/WhatsApp-Image-2026-01-06-at-17.18.28.jpeg
END:VEVENT
BEGIN:VEVENT
DTSTART;TZID=Asia/Jakarta:20251220T191500
DTEND;TZID=Asia/Jakarta:20251220T203000
DTSTAMP:20260425T174345
CREATED:20251220T032421Z
LAST-MODIFIED:20251222T032541Z
UID:964-1766258100-1766262600@pcmlengkong.or.id
SUMMARY:Pengajian Pembinaan PRM Gumuruh Edisi Ke-5
DESCRIPTION:Hadiri dan Ikuti Pengajian Pembinaan PRM Gumuruh Edisi Ke-5 \nMeneguhkan Ukhuwah\, Meraih Berkah \nDengan mengharap ridha Allah SWT\, Pimpinan Ranting Muhammadiyah Gumuruh mengundang Bapak/Ibu/Saudara/i sekalian untuk menghadiri Pengajian Pembinaan PRM Gumuruh Edisi Ke-5. Insya Allah\, acara ini akan menjadi wadah untuk menambah ilmu\, mempererat ukhuwah Islamiyah\, serta meraih keberkahan dari Allah SWT. \nNarasumber:\nAl-Ustadz Asep Rosyidin\n(Pleno PCM dan Mubaligh Muhammadiyah Lengkong) \nHari/Tanggal: Sabtu\, 20 Desember 2025 \nWaktu:\n19.15 – 20.30 WIB \nTempat:\nMasjid Al-Ikhlas PRM Gumuruh \nSambutan: Al-Akh Agung Tirta Wibawa\, M.Ag. (Ketua PRM Gumuruh) \nPengantar: Dadang Saepuloh\, BA. (Penasehat PRM Gumuruh) \nMari luangkan waktu untuk hadir dan bersama-sama mencari ilmu serta keberkahan dalam pengajian ini. Semoga Allah SWT senantiasa memberikan rahmat dan hidayah-Nya kepada kita semua. Aamiin
URL:https://pcmlengkong.or.id/event/pengajian-pembinaan-prm-gumuruh-edisi-ke-5/
LOCATION:Masjid Al-Ikhlas Gumuruh
CATEGORIES:Pengajian Ranting
ATTACH;FMTTYPE=image/jpeg:https://pcmlengkong.or.id/wp-content/uploads/2025/12/WhatsApp-Image-2025-12-20-at-14.38.25.jpeg
END:VEVENT
BEGIN:VEVENT
DTSTART;TZID=Asia/Jakarta:20251220T153000
DTEND;TZID=Asia/Jakarta:20251220T210000
DTSTAMP:20260425T174345
CREATED:20251218T023344Z
LAST-MODIFIED:20251218T023344Z
UID:903-1766244600-1766264400@pcmlengkong.or.id
SUMMARY:Tabligh Akbar dan Pemeriksaan Gratis
DESCRIPTION:Tema : ” Tadabbur Bencana : Hikmah dan Solusi” \nUstadz Dadan Ramadhan \nSabtu\, 20 Desember 2025 \nPengobatan Gratis : 15.30 WIB – selesai \nTabligh Akbar : 19.30 – selesai \nMasjid Rum Al Jihad
URL:https://pcmlengkong.or.id/event/tabligh-akbar-dan-pemeriksaan-gratis/
LOCATION:Masjid Rum Al Jihad\, Jl. Banteng kecil no 22\, Bandung\, Jawa Barat\, Indonesia
CATEGORIES:Pengajian Ranting
ATTACH;FMTTYPE=image/jpeg:https://pcmlengkong.or.id/wp-content/uploads/2025/12/WhatsApp-Image-2025-12-18-at-05.32.08.jpeg
END:VEVENT
BEGIN:VEVENT
DTSTART;TZID=Asia/Jakarta:20251130T180000
DTEND;TZID=Asia/Jakarta:20251130T190000
DTSTAMP:20260425T174345
CREATED:20251130T034021Z
LAST-MODIFIED:20251202T034547Z
UID:867-1764525600-1764529200@pcmlengkong.or.id
SUMMARY:Pengajian Rutin Bulanan PRM Turangga dan DKM Masjid RUM AL JIHAD
DESCRIPTION:*Assalamu’alaikum Warahmatullahi Wabarakatuh ✨\nBismillahirrahmanirrahim \nDengan penuh rasa syukur akan keberkahan ilmu\, kami mengundang kembali Bapak/Ibu/Saudara/i sekalian untuk hadir dalam : \n“Pengajian Rutin Bulanan PRM Turangga dan DKM mesjid RUM AL JIHAD” \nHari/Tanggal:\nAhad\, 30 November 2025\n⏰ Waktu:\nPukul 18.00 wib ( ba’da Maghrib – Selesai )\nTempat:\nMASJID RUM AL JIHAD\nJl. Banteng kecil no 22 \nBersama narasumber :\nUstadz Usep Sulaeman \nTema pengajian :\n” TELAAH KRITIS ATAS 4 DEMENSI\, HISAB\, UMUR\, JASAD\, ILMU\, DAN HARTA ” \nMari bersama-sama kita merenungi dan memperdalam ilmu agama\, sebagai bekal untuk menjalani kehidupan yang lebih bermakna dan diridhai Allah SWT. \nNasrum minallahi wa fathun qarib\nWassalamu’alaikum warahmatullahi wabarakaatuh
URL:https://pcmlengkong.or.id/event/pengajian-rutin-bulanan-prm-turangga-dan-dkm-mesjid-rum-al-jihad/
LOCATION:Masjid Rum Al Jihad\, Jl. Banteng kecil no 22\, Bandung\, Jawa Barat\, Indonesia
CATEGORIES:Pengajian Ranting
ATTACH;FMTTYPE=image/jpeg:https://pcmlengkong.or.id/wp-content/uploads/2025/12/WhatsApp-Image-2025-11-30-at-12.33.16_1ea746c9.jpg
END:VEVENT
BEGIN:VEVENT
DTSTART;TZID=Asia/Jakarta:20251127T153000
DTEND;TZID=Asia/Jakarta:20251127T170000
DTSTAMP:20260425T174345
CREATED:20251127T034644Z
LAST-MODIFIED:20251202T034911Z
UID:875-1764257400-1764262800@pcmlengkong.or.id
SUMMARY:Pengajian Pembinaan PRM CIKAWAO: Edisi Ke-3 "Tahsin Al Quran"
DESCRIPTION:✨ [Pengajian Pembinaan PRM CIKAWAO: Edisi Ke-3 “Tahsin Al Quran”] ✨ \nHadirilah pengajian pembinaan yang diselenggarakan oleh Pimpinan Ranting Muhammadiyah Cikawao\, Lengkong Kota Bandung. \n Tema: Tahsin Al Quran (Edisi Ke-3)\n Narasumber: Ilham Maulana\, S.Sos (Mubaligh Muda Muhammadiyah Lengkong)\n Pengantar: Wawan Hidayat (Penasehat PRM Cikawao)\n Qori’ah: Ibu Maryam\n Hari/Tanggal: Kamis\, 27 November 2025\n⏰ Waktu: 15.30 – 17.00 WIB\n Tempat: Masjid Miftahul Falah PRM Cikawao \nMari bersama-sama memperdalam ilmu Al Quran dan mempererat tali silaturahmi. Kehadiran Anda sangat dinantikan! \nSemoga acara ini membawa berkah dan manfaat bagi kita semua. Aamiin. 
URL:https://pcmlengkong.or.id/event/pengajian-pembinaan-prm-cikawao-edisi-ke-3-tahsin-al-quran/
LOCATION:Masjid Miftahul Falah PRM Cikawao\, Mesjid Jum'ah Miftahul Falah Jl. Melong Kidul No.19\, RW.02\, Cikawao\, Kec. Lengkong\, Kota Bandung\, Jawa Barat 40261\, Bandung\, Jawa Barat\, 40261\, Indonesia
CATEGORIES:Pengajian Ranting
ATTACH;FMTTYPE=image/jpeg:https://pcmlengkong.or.id/wp-content/uploads/2025/12/WhatsApp-Image-2025-11-27-at-09.19.28_3a78af34.jpg
END:VEVENT
BEGIN:VEVENT
DTSTART;TZID=Asia/Jakarta:20251122T191500
DTEND;TZID=Asia/Jakarta:20251122T203000
DTSTAMP:20260425T174345
CREATED:20251121T071602Z
LAST-MODIFIED:20251121T072523Z
UID:824-1763838900-1763843400@pcmlengkong.or.id
SUMMARY:Pengajian Pembinaan PRM Gumuruh Edisi Ke-4
DESCRIPTION:Hadirilah Pengajian Pembinaan PRM Gumuruh Edisi Ke-4! \nTema: “Perbuatan yang Bisa Menghapus Pahala” \nMari kita bersama-sama menggali ilmu dan hikmah tentang amalan-amalan yang dapat menghapus pahala\, agar kita senantiasa berhati-hati dalam setiap perbuatan dan meningkatkan kualitas ibadah kita. \nNarasumber :\n– Ust. Dadang Sopana\, S.Sos.I (Wakil Sekertaris PCM Lengkong) \nPengantar :\n– Dadang Saepuloh\, BA.(Penasehat PRM Gumuruh) \nSambutan :\n– Agung Tirta Wibawa\, M.Ag.(Ketua PRM Gumuruh) \nWaktu dan Tempat :\n– Sabtu\, 22 November 2025\, pukul 19.15 – 20.30 WIB\n– Masjid Al-Ikhlas PRM Gumuruh \nSemoga Allah SWT memberikan kita kemudahan untuk hadir dan mendapatkan ilmu yang bermanfaat. Aamiin.
URL:https://pcmlengkong.or.id/event/pengajian-pembinaan-prm-gumuruh-edisi-ke-4/
LOCATION:Masjid Al-Ikhlas Gumuruh
CATEGORIES:Pengajian Ranting
ATTACH;FMTTYPE=image/jpeg:https://pcmlengkong.or.id/wp-content/uploads/2025/11/WhatsApp-Image-2025-11-21-at-11.44.23.jpeg
END:VEVENT
BEGIN:VEVENT
DTSTART;TZID=Asia/Jakarta:20251122T080000
DTEND;TZID=Asia/Jakarta:20251122T180000
DTSTAMP:20260425T174345
CREATED:20251121T072854Z
LAST-MODIFIED:20251121T072854Z
UID:832-1763798400-1763834400@pcmlengkong.or.id
SUMMARY:Pengajian Pembinaan PRM Burangrang Edisi Ke-4
DESCRIPTION:Pengajian Pembinaan PRM Burangrang Edisi Ke-4! ✨ \n“Sinergi Dakwah\, Harmoni Alam” mengundang kita untuk bersama-sama menikmati keindahan alam Kertasari\, memperkuat dakwah\, dan menciptakan kemajuan berkelanjutan bagi masyarakat. Jadilah bagian dari perjalanan inspiratif ini! \nBersama PRM Burangrang\, raihlah keberkahan ilmu dan amalan yang akan membawa manfaat dunia dan akhirat. \nNarasumber :\n– Ust. Yunus Nusron\, S.Pd (Mubaligh PCM Lengkong) \nSambutan :\n– Yusef Furqon\, S.E (Ketua PRM Burangrang) \nModerator\n– Laila Nurjuariah\, S.Pd(Pengurus PRA Burangrang) \nQori’ah\n– Tina Kartina\, S.E.\, S.Pd (Sekertaris Pimpinan Ranting Aisyiyah Burangrang) \nWaktu dan Tempat\n– Sabtu\, 22 November 2025\, pukul 08.00 – 18.00 WIB \n– Kertasari\, Pangalengan \nSemoga Allah SWT senantiasa melimpahkan rahmat dan hidayah-Nya kepada kita semua. Aamiin.
URL:https://pcmlengkong.or.id/event/pengajian-pembinaan-prm-burangrang-edisi-ke-4/
LOCATION:Kertasari\, Pangalengan
CATEGORIES:Pengajian Ranting
ATTACH;FMTTYPE=image/jpeg:https://pcmlengkong.or.id/wp-content/uploads/2025/11/WhatsApp-Image-2025-11-21-at-14.14.39.jpeg
END:VEVENT
BEGIN:VEVENT
DTSTART;TZID=Asia/Jakarta:20251027T080000
DTEND;TZID=Asia/Jakarta:20251027T170000
DTSTAMP:20260425T174345
CREATED:20251017T030418Z
LAST-MODIFIED:20251027T030546Z
UID:510-1761552000-1761584400@pcmlengkong.or.id
SUMMARY:Pembinaan PRM Burangrang Edisi Ke-3
DESCRIPTION:Assalamualaikum Wr. Wb. \nDengan hormat\, kami mengundang Bapak/Ibu/Saudara/i untuk menghadiri Pengajian Pembinaan PRM Burangrang Edisi Ke-3. \nTema: “Ketika Harus Memilih (Pilih Mana\, Bahagia Sementara\, atau Bahagia Selamanya?)”\nNarasumber: Ust. Burhanudin\, S.Pd.I.\, M.Pd.\nSambutan: Yusef Furqon\, S.E. (Ketua PRM Burangrang)\nModerator: Santi Laila Nurjanah\, S.Pd. (Ketua PRA Burangrang)\nQori’ah: Tina Kartina\, S.E.\, S.Pd (Sekertaris Pimpinan Ranting Aisyiyah Burangrang)\nHari/Tanggal: Jum’at\, 17 Oktober 2025\nWaktu: 13.00 – 15.00 WIB\nTempat: Masjid Al-‘Arif Burangrang \nKehadiran Anda sangat kami harapkan. \nWassalamualaikum Wr. Wb.
URL:https://pcmlengkong.or.id/event/pembinaan-prm-burangrang-edisi-ke-3/
LOCATION:Jawa Barat
CATEGORIES:Pengajian Ranting
ATTACH;FMTTYPE=image/jpeg:https://pcmlengkong.or.id/wp-content/uploads/2025/10/WhatsApp-Image-2025-10-17-at-13.38.41.jpeg
END:VEVENT
BEGIN:VEVENT
DTSTART;TZID=Asia/Jakarta:20251023T153000
DTEND;TZID=Asia/Jakarta:20251023T173000
DTSTAMP:20260425T174345
CREATED:20251023T025907Z
LAST-MODIFIED:20251027T030134Z
UID:500-1761233400-1761240600@pcmlengkong.or.id
SUMMARY:Pengajian Pembinaan PRM Cikawao Edisi Ke-2
DESCRIPTION:Assalamualaikum Warahmatullahi Wabarakatuh\, \nDengan penuh sukacita\, Pimpinan Ranting Muhammadiyah Cikawao mengundang Bapak/Ibu/Saudara/i untuk menghadiri: \n️ Hari/Tanggal: Kamis\, 23 Oktober 2025\n⏰ Waktu: 15.30 – 17.00 WIB\n Tempat: Masjid Miftahul Falah PRM Cikawao \nNarasumber:\n‍♂️ Ust. Yusef\, S.E (Ketua PRM Burangrang) \nPengantar:\n‍ Wawan Hidayat (Penasehat PRM Cikawao) \nQori’ah:\n Ibu Maryam \nMari bersama-sama meningkatkan keimanan dan mempererat tali silaturahmi dalam pengajian yang penuh berkah ini. Kehadiran Bapak/Ibu/Saudara/i sangat kami harapkan. \nWassalamualaikum Warahmatullahi Wabarakatuh.
URL:https://pcmlengkong.or.id/event/pengajian-pembinaan-prm-cikawao-edisi-ke-2/
LOCATION:Jawa Barat
CATEGORIES:Pengajian Ranting
ATTACH;FMTTYPE=image/jpeg:https://pcmlengkong.or.id/wp-content/uploads/2025/10/WhatsApp-Image-2025-10-23-at-12.35.23.jpeg
END:VEVENT
BEGIN:VEVENT
DTSTART;TZID=Asia/Jakarta:20251018T190000
DTEND;TZID=Asia/Jakarta:20251018T203000
DTSTAMP:20260425T174345
CREATED:20251017T030202Z
LAST-MODIFIED:20251027T030406Z
UID:505-1760814000-1760819400@pcmlengkong.or.id
SUMMARY:Pengajian Pembinaan PRM Gumuruh Edisi Ke-3
DESCRIPTION:السلام عليكم ورحمة الله وبركاته \nDengan mengharap ridho Allah SWT\, Pimpinan Ranting Muhammadiyah Gumuruh dengan sukacita mengundang Bapak/Ibu/Saudara/i untuk menghadiri: \nPengajian Pembinaan PRM Gumuruh Edisi Ke-3 \nMari bersama-sama kita meningkatkan keimanan dan memperdalam ilmu agama dengan: \n– Narasumber: Al Ustadz Yusef\, S.E. (Ketua PRM Burangrang)\n– Pengantar: Bapak Dadang Saepuloh\, BA. (Penasehat PRM Gumuruh)\n– Sambutan: Bapak Agung Tirta Wibawa\, M.Ag. (Ketua PRM Gumuruh) \nYang insya Allah akan dilaksanakan pada: \n– Hari/Tanggal: Sabtu\, 18 September 2025\n– Waktu: Pukul 19.15 – 20.30 WIB (Ba’da Isya)\n– Tempat: Masjid Al-Ikhlas PRM Gumuruh \nKehadiran Bapak/Ibu/Saudara/i adalah bentuk dukungan terhadap syiar Islam dan semoga menjadi pemberat amal kebaikan kita di sisi Allah SWT. \nجزاكم الله خيراً وبارك الله فيكم\nوالسلام عليكم ورحمة الله وبركاته
URL:https://pcmlengkong.or.id/event/pengajian-pembinaan-prm-gumuruh-edisi-ke-3/
LOCATION:Jawa Barat
CATEGORIES:Pengajian Ranting
ATTACH;FMTTYPE=image/jpeg:https://pcmlengkong.or.id/wp-content/uploads/2025/10/WhatsApp-Image-2025-10-17-at-13.39.28.jpeg
END:VEVENT
BEGIN:VEVENT
DTSTART;TZID=Asia/Jakarta:20250925T153000
DTEND;TZID=Asia/Jakarta:20250925T170000
DTSTAMP:20260425T174345
CREATED:20250925T030901Z
LAST-MODIFIED:20251027T031043Z
UID:520-1758814200-1758819600@pcmlengkong.or.id
SUMMARY:Pengajian Pembinaan PRM Cikawao Edisi Ke-1
DESCRIPTION:Assalamualaikum Warahmatullahi Wabarakatuh \nDengan mengharap rahmat Allah SWT\, Pimpinan Ranting Muhammadiyah Cikawao mengundang Bapak/Ibu/Saudara/i Pimpinan\, Jamaah\, & Simpatisan di Wilayah Cikawao dalam Pengajian Pembinaan PRM Cikawao Edisi Ke-1 bertema “Muslim Berkemajuan” \nBersama\n– Ust. Dadang Sopana\, S.Sos.I. (Wakil Sekretaris PCM Lengkong & Mubaligh Muda Muhammadiyah) \nIbu Maryam\n(Qori’ah) \nPengantar\nWawan Hidayat (Ketua PRM Cikawao) \n️ Kamis\, 25 September 2025\n⏰ 15.30 – 17.00 WIB\n Masjid Miftahul Falah PRM Cikawao \nMari tingkatkan iman dan silaturahmi. Kehadiran Anda sangat berarti! \nJazakumullah Khairan Katsiran. \nWassalamualaikum Warahmatullahi Wabarakatuh
URL:https://pcmlengkong.or.id/event/pengajian-pembinaan-prm-cikawao-edisi-ke-1/
LOCATION:Jawa Barat
CATEGORIES:Pengajian Ranting
ATTACH;FMTTYPE=image/jpeg:https://pcmlengkong.or.id/wp-content/uploads/2025/10/WhatsApp-Image-2025-09-25-at-10.40.36.jpeg
END:VEVENT
BEGIN:VEVENT
DTSTART;TZID=Asia/Jakarta:20250920T190000
DTEND;TZID=Asia/Jakarta:20250920T203000
DTSTAMP:20260425T174345
CREATED:20250920T031344Z
LAST-MODIFIED:20251027T031823Z
UID:530-1758394800-1758400200@pcmlengkong.or.id
SUMMARY:Pengajian Pembinaan PRM Gumuruh Edisi Ke-2
DESCRIPTION:Assalamualaikum Warahmatullahi Wabarakatuh\, \nDengan rahmat Allah SWT\, PRM Gumuruh mengundang Bapak/Ibu/Saudara/i untuk hadir dalam: \nPengajian Pembinaan PRM Gumuruh \nEdisi Ke-2 \nTema:\n“Mengetahui Cara Syaithan Mengendalikan Hati Manusia” \nBersama:\n Ilham Maulana\, S.Sos\n(Mubaligh Muda Muhammadiyah Lengkong) \n️ Sabtu\, 20 September 2025\n⏰ 19.15 – 20.30 WIB\n Masjid Al-Ikhlas PRM Gumuruh \nSerta:\nPengantar:\nBapak Dadang\nSaepuloh\, BA \nSambutan:\nBapak Agung Tirta\nWibawa\, M.Ag. \nMari bersama menimba ilmu\, membersihkan hati\, dan mempererat ukhuwah. Semoga Allah SWT senantiasa membimbing kita. \nJazakumullahu khairan katsira \nWassalamualaikum Warahmatullahi Wabarakatuh
URL:https://pcmlengkong.or.id/event/pengajian-pembinaan-prm-gumuruh-edisi-ke-2/
LOCATION:Jawa Barat
CATEGORIES:Pengajian Ranting
ATTACH;FMTTYPE=image/jpeg:https://pcmlengkong.or.id/wp-content/uploads/2025/10/WhatsApp-Image-2025-09-18-at-16.33.30.jpeg
END:VEVENT
BEGIN:VEVENT
DTSTART;TZID=Asia/Jakarta:20250919T133000
DTEND;TZID=Asia/Jakarta:20250919T150000
DTSTAMP:20260425T174345
CREATED:20250919T031842Z
LAST-MODIFIED:20251027T032030Z
UID:535-1758288600-1758294000@pcmlengkong.or.id
SUMMARY:Pengajian Pembinaan PRM Burangrang Edisi Ke-2
DESCRIPTION:Assalamualaikum Warahmatullahi Wabarakatuh\, \nDengan mengharap ridha Allah SWT\, Pimpinan Ranting Muhammadiyah Burangrang mengundang Bapak/Ibu/Saudara/i untuk menghadiri: \nPengajian Pembinaan PRM Burangrang \nEdisi Ke-2 \nTema\nTauhid :\n“Landasan Utama Kehidupan Muslim” \nBersama :\n Al Ust. Asep Rosyidin\n(Pleno PCM dan Mubaligh Muhammadiyah Lengkong) \n️ Jumat\, 19 September 2025\n⏰ 13.30 – 15.00 WIB\n Rumah Kediaman Ibu Indri\, Jl. Beruang No.28 Bandung \nSusunan Acara \n– Pembukaan\n– Pembacaan Kalam Ilahi\nQori’ah :\nSanti Laila.\nNurjanah\, S.Pd \n– Sambutan :\nUst. Yusef\nFurqon\, S.E \n– Penceramah :\nAl Ustadz Asep\nRosyidin \n– Moderator : Bapak Burhanudin\, S.Pd.I.\, M.Pd. \n– Penutup dan Doa \nKehadiran Bapak/Ibu/Saudara/I adalah dukungan bagi syiar Islam. Semoga Allah SWT memudahkan jalan kita menuju surga. \nJazakumullahu khairan katsira \nWassalamualaikum Warahmatullahi Wabarakatuh
URL:https://pcmlengkong.or.id/event/pengajian-pembinaan-prm-burangrang-edisi-ke-2/
LOCATION:Jawa Barat
CATEGORIES:Pengajian Ranting
ATTACH;FMTTYPE=image/jpeg:https://pcmlengkong.or.id/wp-content/uploads/2025/10/WhatsApp-Image-2025-09-18-at-16.31.55.jpeg
END:VEVENT
BEGIN:VEVENT
DTSTART;TZID=Asia/Jakarta:20250831T180000
DTEND;TZID=Asia/Jakarta:20250831T193000
DTSTAMP:20260425T174345
CREATED:20250831T032642Z
LAST-MODIFIED:20251027T033008Z
UID:545-1756663200-1756668600@pcmlengkong.or.id
SUMMARY:Pengajian Rutin Pimpinan Ranting Muhammadiyah Turangga
DESCRIPTION:Assalamu’alaikum Warahmatullahi Wabarakatuh \nDengan rahmat Allah SWT\, kami mengundang Bapak/Ibu/Saudara/i sekalian untuk menghadiri pengajian rutin bulanan yang diselenggarakan oleh Pimpinan Ranting Muhammadiyah Turangga Cabang Lengkong bekerjasama dengan DKM Rum Al Jihad. \n Tema Kajian: “Sholat\, tugas utama kita sebagai khalifah” \nNarasumber\n Ust. Yaser Arafat \nHari/Tanggal:\n️ Hari/Tanggal: Ahad\, 31 Agustus 2025 \nWaktu:\n⏰ Waktu: Pukul 18. 00 WIB – Selesai (ba’da maghrib) \nTempat:\n Tempat: Masjid Rum Al Jihad \nDemikian undangan ini kami sampaikan\, semoga Bapak/Ibu/Saudara/i bisa hadir pada waktunya. \nNasrun minallah wa fathun qarib\nWassalamu’alaikum Warahmatullahi Wabarakatuh
URL:https://pcmlengkong.or.id/event/pengajian-rutin-pimpinan-ranting-muhammadiyah-turangga/
LOCATION:Jawa Barat
CATEGORIES:Pengajian Ranting
ATTACH;FMTTYPE=image/jpeg:https://pcmlengkong.or.id/wp-content/uploads/2025/10/WhatsApp-Image-2025-08-29-at-11.31.46.jpeg
END:VEVENT
BEGIN:VEVENT
DTSTART;TZID=Asia/Jakarta:20250823T180000
DTEND;TZID=Asia/Jakarta:20250823T193000
DTSTAMP:20260425T174345
CREATED:20250823T033406Z
LAST-MODIFIED:20251027T033524Z
UID:555-1755972000-1755977400@pcmlengkong.or.id
SUMMARY:Pengajian Pembinaan PRM Gumuruh Edisi Ke-1
DESCRIPTION:Bismillah…\nSalam… \nDengan mengharap ridha Allah SWT\, kami mengundang Bapak/Ibu/Saudara/i untuk menghadiri Pengajian Pembinaan PRM Gumuruh Edisi Ke-1 yang bertema “Al-Islam”. Mari kita bersama-sama menimba ilmu dan memperkuat iman. \nAcara ini akan diselenggarakan pada: \n️ Hari/Tanggal: Sabtu\, 23 Agustus 2025\n⏰ Waktu: 18.00 – 20.00 WIB\n Tempat: Masjid Al-Ikhlas PRM Gumuruh \nMenghadirkan Narasumber: Akhmad Yani\, S.Ag (Ketua PCM Lengkong). \nSambutan dari Agung Tirta Wibawa\, M.Ag (Ketua PRM Gumuruh) dan pengantar dari Dadang Saepuloh\, BA (Penasehat PRM Gumuruh). \nKehadiran Bapak/Ibu/Saudara/i adalah kehormatan bagi kami. Semoga Allah SWT senantiasa melimpahkan rahmat dan hidayah-Nya kepada kita semua.
URL:https://pcmlengkong.or.id/event/pengajian-pembinaan-prm-gumuruh-edisi-ke-1/
LOCATION:Jawa Barat
CATEGORIES:Pengajian Ranting
ATTACH;FMTTYPE=image/jpeg:https://pcmlengkong.or.id/wp-content/uploads/2025/10/WhatsApp-Image-2025-08-23-at-17.17.51.jpeg
END:VEVENT
END:VCALENDAR