BEGIN:VCALENDAR
VERSION:2.0
PRODID:-//Pimpinan Cabang Muhammadiyah Lengkong - ECPv6.15.20//NONSGML v1.0//EN
CALSCALE:GREGORIAN
METHOD:PUBLISH
X-WR-CALNAME:Pimpinan Cabang Muhammadiyah Lengkong
X-ORIGINAL-URL:https://pcmlengkong.or.id
X-WR-CALDESC:Events for Pimpinan Cabang Muhammadiyah Lengkong
REFRESH-INTERVAL;VALUE=DURATION:PT1H
X-Robots-Tag:noindex
X-PUBLISHED-TTL:PT1H
BEGIN:VTIMEZONE
TZID:Asia/Jakarta
BEGIN:STANDARD
TZOFFSETFROM:+0700
TZOFFSETTO:+0700
TZNAME:WIB
DTSTART:20240101T000000
END:STANDARD
END:VTIMEZONE
BEGIN:VEVENT
DTSTART;TZID=Asia/Jakarta:20251215T080000
DTEND;TZID=Asia/Jakarta:20251215T150000
DTSTAMP:20260423T194411
CREATED:20251215T095826Z
LAST-MODIFIED:20251219T100005Z
UID:944-1765785600-1765810800@pcmlengkong.or.id
SUMMARY:Marketing Day SMK Muhammadiyah 1 Bandung
DESCRIPTION:Alhamdulilah acara marketing day SMK Muhammadiyah 1 dah berjalan dengan baik dan lancar
URL:https://pcmlengkong.or.id/event/marketing-day-smk-muhammadiyah-1-bandung/
LOCATION:Kompleks Pendidikan Jalan Kancil No.1 Bandung\, Jalan Kancil No.1\, Bandung\, Jawa Barat\, Indonesia
CATEGORIES:SMK Muhammadiyah 1
ATTACH;FMTTYPE=image/jpeg:https://pcmlengkong.or.id/wp-content/uploads/2025/12/WhatsApp-Image-2025-12-15-at-18.09.57.jpeg
END:VEVENT
END:VCALENDAR