BEGIN:VCALENDAR
VERSION:2.0
PRODID:-//Pimpinan Cabang Muhammadiyah Lengkong - ECPv6.15.20//NONSGML v1.0//EN
CALSCALE:GREGORIAN
METHOD:PUBLISH
X-WR-CALNAME:Pimpinan Cabang Muhammadiyah Lengkong
X-ORIGINAL-URL:https://pcmlengkong.or.id
X-WR-CALDESC:Events for Pimpinan Cabang Muhammadiyah Lengkong
REFRESH-INTERVAL;VALUE=DURATION:PT1H
X-Robots-Tag:noindex
X-PUBLISHED-TTL:PT1H
BEGIN:VTIMEZONE
TZID:Asia/Jakarta
BEGIN:STANDARD
TZOFFSETFROM:+0700
TZOFFSETTO:+0700
TZNAME:WIB
DTSTART:20240101T000000
END:STANDARD
END:VTIMEZONE
BEGIN:VEVENT
DTSTART;TZID=Asia/Jakarta:20251217T173000
DTEND;TZID=Asia/Jakarta:20251217T203000
DTSTAMP:20260424T012224
CREATED:20251218T024054Z
LAST-MODIFIED:20251218T024321Z
UID:908-1765992600-1766003400@pcmlengkong.or.id
SUMMARY:Koordinasi Majelis Tabligh ke DKM Masjid At-Taubah
DESCRIPTION:Majelis Tabligh melakukan kunjungan ke DKM Masjid At-Taubah di Jalan Parakan Wangi Batununggal Bandung. \nMasjid tersebut hingga saat ini merupakan wakaf yang diserahkan kepada PCM Lengkong. \nKunjungan tersebut dalam rangka persiapan Tabligh Akbar PCM Lengkong di bulan Desember 2025 yang akan diselenggarakan di Masjid tersebut. \n 
URL:https://pcmlengkong.or.id/event/koordinasi-dengan-dkm-masjid-at-taubah/
LOCATION:Masjid At-Taubah\, Jl. Parakan Wangi No.15\, Batununggal\, Kec. Bandung Kidul\, Kota Bandung\, Jawa Barat 40266\, Bandung\, Jawa Barat\, 40266\, Indonesia
CATEGORIES:Kunjungan
ATTACH;FMTTYPE=image/jpeg:https://pcmlengkong.or.id/wp-content/uploads/2025/12/WhatsApp-Image-2025-12-17-at-18.15.46-kunjungan-ke-masjid-at-taubah.jpeg
END:VEVENT
END:VCALENDAR