BEGIN:VCALENDAR
VERSION:2.0
PRODID:-//Pimpinan Cabang Muhammadiyah Lengkong - ECPv6.15.20//NONSGML v1.0//EN
CALSCALE:GREGORIAN
METHOD:PUBLISH
X-ORIGINAL-URL:https://pcmlengkong.or.id
X-WR-CALDESC:Events for Pimpinan Cabang Muhammadiyah Lengkong
REFRESH-INTERVAL;VALUE=DURATION:PT1H
X-Robots-Tag:noindex
X-PUBLISHED-TTL:PT1H
BEGIN:VTIMEZONE
TZID:Asia/Jakarta
BEGIN:STANDARD
TZOFFSETFROM:+0700
TZOFFSETTO:+0700
TZNAME:WIB
DTSTART:20240101T000000
END:STANDARD
END:VTIMEZONE
BEGIN:VEVENT
DTSTART;TZID=Asia/Jakarta:20251122T080000
DTEND;TZID=Asia/Jakarta:20251122T180000
DTSTAMP:20260424T022012
CREATED:20251121T072854Z
LAST-MODIFIED:20251121T072854Z
UID:832-1763798400-1763834400@pcmlengkong.or.id
SUMMARY:Pengajian Pembinaan PRM Burangrang Edisi Ke-4
DESCRIPTION:Pengajian Pembinaan PRM Burangrang Edisi Ke-4! ✨ \n“Sinergi Dakwah\, Harmoni Alam” mengundang kita untuk bersama-sama menikmati keindahan alam Kertasari\, memperkuat dakwah\, dan menciptakan kemajuan berkelanjutan bagi masyarakat. Jadilah bagian dari perjalanan inspiratif ini! \nBersama PRM Burangrang\, raihlah keberkahan ilmu dan amalan yang akan membawa manfaat dunia dan akhirat. \nNarasumber :\n– Ust. Yunus Nusron\, S.Pd (Mubaligh PCM Lengkong) \nSambutan :\n– Yusef Furqon\, S.E (Ketua PRM Burangrang) \nModerator\n– Laila Nurjuariah\, S.Pd(Pengurus PRA Burangrang) \nQori’ah\n– Tina Kartina\, S.E.\, S.Pd (Sekertaris Pimpinan Ranting Aisyiyah Burangrang) \nWaktu dan Tempat\n– Sabtu\, 22 November 2025\, pukul 08.00 – 18.00 WIB \n– Kertasari\, Pangalengan \nSemoga Allah SWT senantiasa melimpahkan rahmat dan hidayah-Nya kepada kita semua. Aamiin.
URL:https://pcmlengkong.or.id/event/pengajian-pembinaan-prm-burangrang-edisi-ke-4/
LOCATION:Kertasari\, Pangalengan
CATEGORIES:Pengajian Ranting
ATTACH;FMTTYPE=image/jpeg:https://pcmlengkong.or.id/wp-content/uploads/2025/11/WhatsApp-Image-2025-11-21-at-14.14.39.jpeg
END:VEVENT
BEGIN:VEVENT
DTSTART;TZID=Asia/Jakarta:20251122T191500
DTEND;TZID=Asia/Jakarta:20251122T203000
DTSTAMP:20260424T022012
CREATED:20251121T071602Z
LAST-MODIFIED:20251121T072523Z
UID:824-1763838900-1763843400@pcmlengkong.or.id
SUMMARY:Pengajian Pembinaan PRM Gumuruh Edisi Ke-4
DESCRIPTION:Hadirilah Pengajian Pembinaan PRM Gumuruh Edisi Ke-4! \nTema: “Perbuatan yang Bisa Menghapus Pahala” \nMari kita bersama-sama menggali ilmu dan hikmah tentang amalan-amalan yang dapat menghapus pahala\, agar kita senantiasa berhati-hati dalam setiap perbuatan dan meningkatkan kualitas ibadah kita. \nNarasumber :\n– Ust. Dadang Sopana\, S.Sos.I (Wakil Sekertaris PCM Lengkong) \nPengantar :\n– Dadang Saepuloh\, BA.(Penasehat PRM Gumuruh) \nSambutan :\n– Agung Tirta Wibawa\, M.Ag.(Ketua PRM Gumuruh) \nWaktu dan Tempat :\n– Sabtu\, 22 November 2025\, pukul 19.15 – 20.30 WIB\n– Masjid Al-Ikhlas PRM Gumuruh \nSemoga Allah SWT memberikan kita kemudahan untuk hadir dan mendapatkan ilmu yang bermanfaat. Aamiin.
URL:https://pcmlengkong.or.id/event/pengajian-pembinaan-prm-gumuruh-edisi-ke-4/
LOCATION:Masjid Al-Ikhlas Gumuruh
CATEGORIES:Pengajian Ranting
ATTACH;FMTTYPE=image/jpeg:https://pcmlengkong.or.id/wp-content/uploads/2025/11/WhatsApp-Image-2025-11-21-at-11.44.23.jpeg
END:VEVENT
BEGIN:VEVENT
DTSTART;TZID=Asia/Jakarta:20251127T153000
DTEND;TZID=Asia/Jakarta:20251127T170000
DTSTAMP:20260424T022012
CREATED:20251127T034644Z
LAST-MODIFIED:20251202T034911Z
UID:875-1764257400-1764262800@pcmlengkong.or.id
SUMMARY:Pengajian Pembinaan PRM CIKAWAO: Edisi Ke-3 "Tahsin Al Quran"
DESCRIPTION:✨ [Pengajian Pembinaan PRM CIKAWAO: Edisi Ke-3 “Tahsin Al Quran”] ✨ \nHadirilah pengajian pembinaan yang diselenggarakan oleh Pimpinan Ranting Muhammadiyah Cikawao\, Lengkong Kota Bandung. \n Tema: Tahsin Al Quran (Edisi Ke-3)\n Narasumber: Ilham Maulana\, S.Sos (Mubaligh Muda Muhammadiyah Lengkong)\n Pengantar: Wawan Hidayat (Penasehat PRM Cikawao)\n Qori’ah: Ibu Maryam\n Hari/Tanggal: Kamis\, 27 November 2025\n⏰ Waktu: 15.30 – 17.00 WIB\n Tempat: Masjid Miftahul Falah PRM Cikawao \nMari bersama-sama memperdalam ilmu Al Quran dan mempererat tali silaturahmi. Kehadiran Anda sangat dinantikan! \nSemoga acara ini membawa berkah dan manfaat bagi kita semua. Aamiin. 
URL:https://pcmlengkong.or.id/event/pengajian-pembinaan-prm-cikawao-edisi-ke-3-tahsin-al-quran/
LOCATION:Masjid Miftahul Falah PRM Cikawao\, Mesjid Jum'ah Miftahul Falah Jl. Melong Kidul No.19\, RW.02\, Cikawao\, Kec. Lengkong\, Kota Bandung\, Jawa Barat 40261\, Bandung\, Jawa Barat\, 40261\, Indonesia
CATEGORIES:Pengajian Ranting
ATTACH;FMTTYPE=image/jpeg:https://pcmlengkong.or.id/wp-content/uploads/2025/12/WhatsApp-Image-2025-11-27-at-09.19.28_3a78af34.jpg
END:VEVENT
BEGIN:VEVENT
DTSTART;TZID=Asia/Jakarta:20251130T180000
DTEND;TZID=Asia/Jakarta:20251130T190000
DTSTAMP:20260424T022012
CREATED:20251130T034021Z
LAST-MODIFIED:20251202T034547Z
UID:867-1764525600-1764529200@pcmlengkong.or.id
SUMMARY:Pengajian Rutin Bulanan PRM Turangga dan DKM Masjid RUM AL JIHAD
DESCRIPTION:*Assalamu’alaikum Warahmatullahi Wabarakatuh ✨\nBismillahirrahmanirrahim \nDengan penuh rasa syukur akan keberkahan ilmu\, kami mengundang kembali Bapak/Ibu/Saudara/i sekalian untuk hadir dalam : \n“Pengajian Rutin Bulanan PRM Turangga dan DKM mesjid RUM AL JIHAD” \nHari/Tanggal:\nAhad\, 30 November 2025\n⏰ Waktu:\nPukul 18.00 wib ( ba’da Maghrib – Selesai )\nTempat:\nMASJID RUM AL JIHAD\nJl. Banteng kecil no 22 \nBersama narasumber :\nUstadz Usep Sulaeman \nTema pengajian :\n” TELAAH KRITIS ATAS 4 DEMENSI\, HISAB\, UMUR\, JASAD\, ILMU\, DAN HARTA ” \nMari bersama-sama kita merenungi dan memperdalam ilmu agama\, sebagai bekal untuk menjalani kehidupan yang lebih bermakna dan diridhai Allah SWT. \nNasrum minallahi wa fathun qarib\nWassalamu’alaikum warahmatullahi wabarakaatuh
URL:https://pcmlengkong.or.id/event/pengajian-rutin-bulanan-prm-turangga-dan-dkm-mesjid-rum-al-jihad/
LOCATION:Masjid Rum Al Jihad\, Jl. Banteng kecil no 22\, Bandung\, Jawa Barat\, Indonesia
CATEGORIES:Pengajian Ranting
ATTACH;FMTTYPE=image/jpeg:https://pcmlengkong.or.id/wp-content/uploads/2025/12/WhatsApp-Image-2025-11-30-at-12.33.16_1ea746c9.jpg
END:VEVENT
END:VCALENDAR