BEGIN:VCALENDAR
VERSION:2.0
PRODID:-//Pimpinan Cabang Muhammadiyah Lengkong - ECPv6.15.20//NONSGML v1.0//EN
CALSCALE:GREGORIAN
METHOD:PUBLISH
X-ORIGINAL-URL:https://pcmlengkong.or.id
X-WR-CALDESC:Events for Pimpinan Cabang Muhammadiyah Lengkong
REFRESH-INTERVAL;VALUE=DURATION:PT1H
X-Robots-Tag:noindex
X-PUBLISHED-TTL:PT1H
BEGIN:VTIMEZONE
TZID:Asia/Jakarta
BEGIN:STANDARD
TZOFFSETFROM:+0700
TZOFFSETTO:+0700
TZNAME:WIB
DTSTART:20240101T000000
END:STANDARD
END:VTIMEZONE
BEGIN:VEVENT
DTSTART;TZID=Asia/Jakarta:20251028T130000
DTEND;TZID=Asia/Jakarta:20251028T150000
DTSTAMP:20260424T030056
CREATED:20251027T022924Z
LAST-MODIFIED:20251028T032838Z
UID:481-1761656400-1761663600@pcmlengkong.or.id
SUMMARY:Pengajian Umum Rutin Bulanan PCM Lengkong - Edisi ke-4
DESCRIPTION:Assalamualaikum Warahmatullahi Wabarakatuh\, \nDengan penuh rasa syukur dan kerinduan\, Majelis Tabligh Pimpinan Cabang Muhammadiyah Lengkong Kota Bandung mengundang keluarga besar Persyarikatan Muhammadiyah Lengkong untuk menghadiri: \nPengajian Umum Rutin Bulanan PCM Lengkong \nEdisi Ke-4 \nTopik :\n“Islam Berkemajuan di Tempat Kerja” \nNarasumber:\nUstadz Dadang Sopana\, S.Sos.I (Wakil Sekretaris PCM Lengkong) \nSambutan Pengantar:\n️ Ustadz Ahmad Yani\, S.Ag (Ketua Pimpinan Cabang Muhammadiyah Lengkong) \nPembacaan Ayat Suci Al-Qur’an: \nQori’ah:\nNurhasanah (Mahasiswa PLP FAI UM Bandung) \nSaritilawah:\nNur Syfa Setiawati (Mahasiswa PLP FAI UM Bandung) \nModerator:\nBapak Entoh\, S.Ag (Guru SMP Muhammadiyah 1 Bandung) \nHari/Tanggal:\n️ Selasa\, 28 Oktober 2025 \nWaktu:\n⏰ 13.00 – 15.00 WIB \nTempat:\nKompleks Pendidikan KH. A. Dahlan\, Jalan Banteng Dalam No.6 Bandung
URL:https://pcmlengkong.or.id/event/pengajian-umum-rutin-bulanan-pcm-lengkong-edisi-ke-4/
LOCATION:Kompleks Pendidikan KH. A. Dahlan\, Jalan Banteng Dalam No.6 Bandung
CATEGORIES:Pengajian Umum
ATTACH;FMTTYPE=image/jpeg:https://pcmlengkong.or.id/wp-content/uploads/2025/10/WhatsApp-Image-2025-10-28-at-10.25.49.jpeg
END:VEVENT
END:VCALENDAR