BEGIN:VCALENDAR
VERSION:2.0
PRODID:-//Pimpinan Cabang Muhammadiyah Lengkong - ECPv6.15.20//NONSGML v1.0//EN
CALSCALE:GREGORIAN
METHOD:PUBLISH
X-ORIGINAL-URL:https://pcmlengkong.or.id
X-WR-CALDESC:Events for Pimpinan Cabang Muhammadiyah Lengkong
REFRESH-INTERVAL;VALUE=DURATION:PT1H
X-Robots-Tag:noindex
X-PUBLISHED-TTL:PT1H
BEGIN:VTIMEZONE
TZID:Asia/Jakarta
BEGIN:STANDARD
TZOFFSETFROM:+0700
TZOFFSETTO:+0700
TZNAME:WIB
DTSTART:20240101T000000
END:STANDARD
END:VTIMEZONE
BEGIN:VEVENT
DTSTART;TZID=Asia/Jakarta:20251209T200000
DTEND;TZID=Asia/Jakarta:20251209T213000
DTSTAMP:20260419T233554
CREATED:20251208T070920Z
LAST-MODIFIED:20251208T070920Z
UID:881-1765310400-1765315800@pcmlengkong.or.id
SUMMARY:Pengajian Pimpinan PCM Lengkong
DESCRIPTION:Assalamualaikum Warahmatullahi Wabarakatuh\, \nDengan mengharap ridho Allah SWT\, kami mengundang Bapak/Ibu/Saudara/i sekalian untuk menghadiri acara Pengajian Pimpinan PCM Lengkong Edisi Ke-5 (Edisi Akhir Tahun 2025). \nTema :\nNgaderes Himpunan Putusan Tarjih (HPT) Muhammadiyah : Harmoni Akal dan Wahyu; Pendekatan Tarjih Muhammadiyah dalam Memahami Aqidah (Lanjutan).” \nInsya Allah\, pengajian ini akan memberikan pemahaman yang mendalam mengenai pentingnya harmoni antara akal dan wahyu dalam memahami ajaran Islam\, khususnya melalui pendekatan Tarjih Muhammadiyah. \nAcara ini akan diisi oleh narasumber yang ahli di bidangnya\, yaitu: \nCecep Taufiqurrahman\, M.A. Ph.D\n(Wakil Dekan FAI UMBandung) \nProlog :\nAkhmad Yani\, S.Ag (Ketua PCM Lengkong) \nModerator :\nBurhanudin\, S.Pd.I.\, M.Pd\n(Ketua Majelis Tabligh PCM Lengkong) \nQori’ah :\nDra. Nia Suminar (Kepala Sekolah SMA Muhammadiyah 1)
URL:https://pcmlengkong.or.id/event/pengajian-pimpinan-pcm-lengkong/
LOCATION:Google Meet
CATEGORIES:Pengajian Pimpinan
ATTACH;FMTTYPE=image/jpeg:https://pcmlengkong.or.id/wp-content/uploads/2025/12/WhatsApp-Image-2025-12-08-at-13.23.47.jpeg
END:VEVENT
END:VCALENDAR