BEGIN:VCALENDAR
VERSION:2.0
PRODID:-//Pimpinan Cabang Muhammadiyah Lengkong - ECPv6.15.20//NONSGML v1.0//EN
CALSCALE:GREGORIAN
METHOD:PUBLISH
X-WR-CALNAME:Pimpinan Cabang Muhammadiyah Lengkong
X-ORIGINAL-URL:https://pcmlengkong.or.id
X-WR-CALDESC:Events for Pimpinan Cabang Muhammadiyah Lengkong
REFRESH-INTERVAL;VALUE=DURATION:PT1H
X-Robots-Tag:noindex
X-PUBLISHED-TTL:PT1H
BEGIN:VTIMEZONE
TZID:Asia/Jakarta
BEGIN:STANDARD
TZOFFSETFROM:+0700
TZOFFSETTO:+0700
TZNAME:WIB
DTSTART:20240101T000000
END:STANDARD
END:VTIMEZONE
BEGIN:VEVENT
DTSTART;TZID=Asia/Jakarta:20251023T153000
DTEND;TZID=Asia/Jakarta:20251023T173000
DTSTAMP:20260424T052808
CREATED:20251023T025907Z
LAST-MODIFIED:20251027T030134Z
UID:500-1761233400-1761240600@pcmlengkong.or.id
SUMMARY:Pengajian Pembinaan PRM Cikawao Edisi Ke-2
DESCRIPTION:Assalamualaikum Warahmatullahi Wabarakatuh\, \nDengan penuh sukacita\, Pimpinan Ranting Muhammadiyah Cikawao mengundang Bapak/Ibu/Saudara/i untuk menghadiri: \n️ Hari/Tanggal: Kamis\, 23 Oktober 2025\n⏰ Waktu: 15.30 – 17.00 WIB\n Tempat: Masjid Miftahul Falah PRM Cikawao \nNarasumber:\n‍♂️ Ust. Yusef\, S.E (Ketua PRM Burangrang) \nPengantar:\n‍ Wawan Hidayat (Penasehat PRM Cikawao) \nQori’ah:\n Ibu Maryam \nMari bersama-sama meningkatkan keimanan dan mempererat tali silaturahmi dalam pengajian yang penuh berkah ini. Kehadiran Bapak/Ibu/Saudara/i sangat kami harapkan. \nWassalamualaikum Warahmatullahi Wabarakatuh.
URL:https://pcmlengkong.or.id/event/pengajian-pembinaan-prm-cikawao-edisi-ke-2/
CATEGORIES:Pengajian Ranting
ATTACH;FMTTYPE=image/jpeg:https://pcmlengkong.or.id/wp-content/uploads/2025/10/WhatsApp-Image-2025-10-23-at-12.35.23.jpeg
END:VEVENT
END:VCALENDAR