BEGIN:VCALENDAR
VERSION:2.0
PRODID:-//Pimpinan Cabang Muhammadiyah Lengkong - ECPv6.15.20//NONSGML v1.0//EN
CALSCALE:GREGORIAN
METHOD:PUBLISH
X-WR-CALNAME:Pimpinan Cabang Muhammadiyah Lengkong
X-ORIGINAL-URL:https://pcmlengkong.or.id
X-WR-CALDESC:Events for Pimpinan Cabang Muhammadiyah Lengkong
REFRESH-INTERVAL;VALUE=DURATION:PT1H
X-Robots-Tag:noindex
X-PUBLISHED-TTL:PT1H
BEGIN:VTIMEZONE
TZID:Asia/Jakarta
BEGIN:STANDARD
TZOFFSETFROM:+0700
TZOFFSETTO:+0700
TZNAME:WIB
DTSTART:20250101T000000
END:STANDARD
END:VTIMEZONE
BEGIN:VEVENT
DTSTART;TZID=Asia/Jakarta:20260208T083000
DTEND;TZID=Asia/Jakarta:20260208T120000
DTSTAMP:20260419T213202
CREATED:20260204T021213Z
LAST-MODIFIED:20260204T021213Z
UID:1110-1770539400-1770552000@pcmlengkong.or.id
SUMMARY:Pengajian Qobla Ramadhan 1447 H "Menahan Marah dan Amarah\, Menebar Ramah"
DESCRIPTION:KELUARGA BESAR PIMPINAN CABANG MUHAMMADIYAH LENGKONG KOTA BANDUNG \nبسم الله الرحمن الرحيم \nAhlan Wa Syahlan Wa Marhaban Yaa Ramadhan! \nDengan penuh kerinduan dan kebahagiaan yang mendalam\, kita menyambut kedatangan bulan suci Ramadhan 1447 H – bulan yang penuh berkah\, ampunan\, dan keberkatan dari Allah SWT. \nDalam momen mulia ini\, Pimpinan Cabang Muhammadiyah Lengkong Kota Bandung mengundang seluruh keluarga besar Muhammadiyah\, masyarakat muslim sekitar\, dan seluruh umat yang dirahmati Allah untuk hadir dalam Kegiatan Qobla Ramadhan yang akan diselenggarakan dengan semangat kebersamaan. \nAcara akan mengangkat tema “Menahan Marah dan Amarah\, Menebar Ramah”\, yang akan disampaikan oleh Drs. H. Agus Kusnadi (Anggota MPKU Pimpinan Pusat Muhammadiyah). Selain mendapatkan pencerahan ilmu agama\, juga akan diselenggarakan Bakti Sosial Pemeriksaan Kesehatan Gratis dari Rumah Sakit Muhammadiyah Bandung sebagai bentuk kepedulian kita terhadap saudara-saudara kita. \n📅 Ahad\, 8 Februari 2026\n🕣 Pukul 08.30 WIB\n🕌 Masjid Attaubah Nurul Ma’aruf\n🏠 Jl. Parakan Wangi No. 15\, Batununggal\, Kota Bandung \nMarilah kita sama-sama menggembirakan kedatangan bulan suci ini\, mempererat tali silaturahmi dan meraih keberkahan-Nya yang melimpah. \nNashrun Minallah Wa-Fathun Qorieb
URL:https://pcmlengkong.or.id/event/pengajian-qobla-ramadhan-1447-h-menahan-marah-dan-amarah-menebar-ramah/
LOCATION:Masjid At-Taubah\, Jl. Parakan Wangi No.15\, Batununggal\, Kec. Bandung Kidul\, Kota Bandung\, Jawa Barat 40266\, Bandung\, Jawa Barat\, 40266\, Indonesia
CATEGORIES:Pengajian Umum
ATTACH;FMTTYPE=image/jpeg:https://pcmlengkong.or.id/wp-content/uploads/2026/02/WhatsApp-Image-2026-02-04-at-09.01.45.jpeg
END:VEVENT
END:VCALENDAR