BEGIN:VCALENDAR
VERSION:2.0
PRODID:-//Pimpinan Cabang Muhammadiyah Lengkong - ECPv6.15.20//NONSGML v1.0//EN
CALSCALE:GREGORIAN
METHOD:PUBLISH
X-ORIGINAL-URL:https://pcmlengkong.or.id
X-WR-CALDESC:Events for Pimpinan Cabang Muhammadiyah Lengkong
REFRESH-INTERVAL;VALUE=DURATION:PT1H
X-Robots-Tag:noindex
X-PUBLISHED-TTL:PT1H
BEGIN:VTIMEZONE
TZID:Asia/Jakarta
BEGIN:STANDARD
TZOFFSETFROM:+0700
TZOFFSETTO:+0700
TZNAME:WIB
DTSTART:20240101T000000
END:STANDARD
END:VTIMEZONE
BEGIN:VEVENT
DTSTART;TZID=Asia/Jakarta:20251215T080000
DTEND;TZID=Asia/Jakarta:20251215T150000
DTSTAMP:20260424T020028
CREATED:20251215T100028Z
LAST-MODIFIED:20251219T100334Z
UID:949-1765785600-1765810800@pcmlengkong.or.id
SUMMARY:Pembukaan PORSENI SMAMSA Bandung
DESCRIPTION:Pembukaan PORSENI ( Pekan Olahraga & Seni) SMAMSA Bandung.\nSenin & Selasa\, 15-16 Desember 2025. \nReporter : Siti Julaeha
URL:https://pcmlengkong.or.id/event/pembukaan-porseni-smamsa-bandung/
LOCATION:Kompleks Pendidikan Jalan Kancil No.1 Bandung\, Jalan Kancil No.1\, Bandung\, Jawa Barat\, Indonesia
CATEGORIES:SMAMSA
ATTACH;FMTTYPE=image/jpeg:https://pcmlengkong.or.id/wp-content/uploads/2025/12/WhatsApp-Image-2025-12-15-at-08.19.07.jpeg
END:VEVENT
BEGIN:VEVENT
DTSTART;TZID=Asia/Jakarta:20251217T080000
DTEND;TZID=Asia/Jakarta:20251217T103000
DTSTAMP:20260424T020028
CREATED:20251217T094147Z
LAST-MODIFIED:20251219T094729Z
UID:925-1765958400-1765967400@pcmlengkong.or.id
SUMMARY:Penetapan Judul Karya Tulis Ilmiah SMA Muhammadiyah 1 Bandung
DESCRIPTION:Penetapan Judul karya tulis ilmiah kls XII SMA Muhammadiyah 1 Bdg\nRabu\, 17 Desember 2025\nPkl. 8.00 sd 10.30 \n \n  
URL:https://pcmlengkong.or.id/event/penetapan-judul-karya-tulis-ilmiah-sma-muhammadiyah-1-bandung/
LOCATION:Kompleks Pendidikan Jalan Kancil No.1 Bandung\, Jalan Kancil No.1\, Bandung\, Jawa Barat\, Indonesia
CATEGORIES:SMAMSA
ATTACH;FMTTYPE=image/jpeg:https://pcmlengkong.or.id/wp-content/uploads/2025/12/WhatsApp-Image-2025-12-17-at-10.36.48.jpeg
END:VEVENT
END:VCALENDAR